BEGIN:VCALENDAR
VERSION:2.0
PRODID:https://www.spdfraktion.de/
METHOD:PUBLISH
BEGIN:VEVENT
UID: 0bef092a875100e490bdd9d9fa7034a2@spdfraktion.de
SUMMARY: Bündnis für Wohnen - mehr Wohnraum durch Bau-Turbo
DESCRIPTION: Diskussionsveranstaltung. Mehr unter https://www.spdfraktion.de/node/6220518
LOCATION: Foyer Bauverein Lünen, Langestr. 99, 44532 Lünen
CLASS:PUBLIC
DTSTAMP:20260513T180000
DTSTART:20260513T180000
DTEND:20260513T193000
SEQUENCE:0
END:VEVENT
END:VCALENDAR
