BEGIN:VCALENDAR
VERSION:2.0
PRODID:https://www.spdfraktion.de/
METHOD:PUBLISH
BEGIN:VEVENT
UID: c38291a4f861a01f3f8ab82be8baabcc@spdfraktion.de
SUMMARY: Tag der Ein- und Ausblicke 2026
DESCRIPTION: Besuchen Sie uns im Bundestag. Mehr unter https://www.spdfraktion.de/node/6220502
LOCATION: Deutscher Bundestag, Platz der Republik 1, 11011 Berlin
CLASS:PUBLIC
DTSTAMP:20260503T090000
DTSTART:20260503T090000
DTEND:20260503T190000
SEQUENCE:0
END:VEVENT
END:VCALENDAR
