BEGIN:VCALENDAR
VERSION:2.0
PRODID:https://www.spdfraktion.de/
METHOD:PUBLISH
BEGIN:VEVENT
UID: 50c839aac481ea10ad3ede2efeeb9516@spdfraktion.de
SUMMARY: Wie sichern wir Frieden?
DESCRIPTION: Wir vor Ort – Unsere Politik im Dialog. Mehr unter https://www.spdfraktion.de/node/6219631
LOCATION: Gaststätte Hillenbrand, Bauernstraße 13, 86368 Gersthofen
CLASS:PUBLIC
DTSTAMP:20241123T183000
DTSTART:20241123T183000
DTEND:20241123T201500
SEQUENCE:0
END:VEVENT
END:VCALENDAR
