BEGIN:VCALENDAR
VERSION:2.0
PRODID:https://www.spdfraktion.de/
METHOD:PUBLISH
BEGIN:VEVENT
UID: 52385f2cfd60b31761790601f1cf2504@spdfraktion.de
SUMMARY: Politischer Martini
DESCRIPTION: In guter Gesellschaft – Gemeinsam gegen Einsamkeit  . Mehr unter https://www.spdfraktion.de/node/6219628
LOCATION: In der „Post“, Rötenbacher Straße 5, 88364 Wolfegg
CLASS:PUBLIC
DTSTAMP:20241123T150000
DTSTART:20241123T150000
DTEND:20241123T170000
SEQUENCE:0
END:VEVENT
END:VCALENDAR
