BEGIN:VCALENDAR
VERSION:2.0
PRODID:https://www.spdfraktion.de/
METHOD:PUBLISH
BEGIN:VEVENT
UID: e81115f281e9ca89a236d197525b4347@spdfraktion.de
SUMMARY: Demokratie im Stresstest
DESCRIPTION: Wie können wir Verfassungsfeinde stoppen?. Mehr unter https://www.spdfraktion.de/node/6219615
LOCATION: , ,  
CLASS:PUBLIC
DTSTAMP:20241118T193000
DTSTART:20241118T193000
DTEND:20241118T210000
SEQUENCE:0
END:VEVENT
END:VCALENDAR
