BEGIN:VCALENDAR
VERSION:2.0
PRODID:https://www.spdfraktion.de/
METHOD:PUBLISH
BEGIN:VEVENT
UID: 571a64b844c18e1e12ce3d8c32a3d8e5@spdfraktion.de
SUMMARY: Wie sichern wir Frieden?
DESCRIPTION: Wir vor Ort – Unsere Politik im Dialog. Mehr unter https://www.spdfraktion.de/node/6219611
LOCATION: Hotel am Schlosspark, Neuwieder Weg 1, 18273 Güstrow
CLASS:PUBLIC
DTSTAMP:20241108T190000
DTSTART:20241108T190000
DTEND:20241108T204500
SEQUENCE:0
END:VEVENT
END:VCALENDAR
