BEGIN:VCALENDAR
VERSION:2.0
PRODID:https://www.spdfraktion.de/
METHOD:PUBLISH
BEGIN:VEVENT
UID: b0d02a4a6b782dc568647344f29c4b71@spdfraktion.de
SUMMARY: Ehrenamtsgipfel
DESCRIPTION: Ehrenamt im Sport stärken und fördern. Mehr unter https://www.spdfraktion.de/node/6219596
LOCATION: Forum der Städtereiniger, Sase gGmbH, Max-Planck-Straße 9, 58638 Iserlohn
CLASS:PUBLIC
DTSTAMP:20241109T100000
DTSTART:20241109T100000
DTEND:20241109T113000
SEQUENCE:0
END:VEVENT
END:VCALENDAR
