BEGIN:VCALENDAR
VERSION:2.0
PRODID:https://www.spdfraktion.de/
METHOD:PUBLISH
BEGIN:VEVENT
UID: 5b8a6166702fb611556525239a2c0c7d@spdfraktion.de
SUMMARY: Rudolf Breitscheid – unterschätzt und vergessen. Die Wiederentdeckung eines großen Sozialdemokraten.
DESCRIPTION: . Mehr unter https://www.spdfraktion.de/node/6219562
LOCATION: Deutscher Bundestag, Platz der Republik 1, 11011 Berlin
CLASS:PUBLIC
DTSTAMP:20241107T190000
DTSTART:20241107T190000
DTEND:20241107T203000
SEQUENCE:0
END:VEVENT
END:VCALENDAR
