BEGIN:VCALENDAR
VERSION:2.0
PRODID:https://www.spdfraktion.de/
METHOD:PUBLISH
BEGIN:VEVENT
UID: a1ceb849f7db9ca0ec0e639fb80f8ada@spdfraktion.de
SUMMARY: Arbeit, die sich lohnt!
DESCRIPTION: Diskussionsveranstaltung. Mehr unter https://www.spdfraktion.de/node/6219553
LOCATION: Kulturkirche Heilig Kreuz, Scharnhölzstraße 33, 46236 Bottrop
CLASS:PUBLIC
DTSTAMP:20241024T173000
DTSTART:20241024T173000
DTEND:20241024T193000
SEQUENCE:0
END:VEVENT
END:VCALENDAR
