BEGIN:VCALENDAR
VERSION:2.0
PRODID:https://www.spdfraktion.de/
METHOD:PUBLISH
BEGIN:VEVENT
UID: df8935be8b72323312a6318c19b3d9e7@spdfraktion.de
SUMMARY: Politik für die Fleißigen
DESCRIPTION: Gemeinsam Zukunft gestalten. Mehr unter https://www.spdfraktion.de/node/6219551
LOCATION: Haus Müngsten, Müngstener Brückenweg 71, 42659 Solingen
CLASS:PUBLIC
DTSTAMP:20241022T180000
DTSTART:20241022T180000
DTEND:20241022T193000
SEQUENCE:0
END:VEVENT
END:VCALENDAR
