BEGIN:VCALENDAR
VERSION:2.0
PRODID:https://www.spdfraktion.de/
METHOD:PUBLISH
BEGIN:VEVENT
UID: 00a068ad929370a7cf67a330f986f8cc@spdfraktion.de
SUMMARY: Gesundheitssystem der Zukunft
DESCRIPTION: Reformvorhaben im deutschen Gesundheitssystem. Mehr unter https://www.spdfraktion.de/node/6219550
LOCATION: Forum Leverkusen, Am Büchelter Hof 9, 51373 Leverkusen
CLASS:PUBLIC
DTSTAMP:20241021T180000
DTSTART:20241021T180000
DTEND:20241021T200000
SEQUENCE:0
END:VEVENT
END:VCALENDAR
