BEGIN:VCALENDAR
VERSION:2.0
PRODID:https://www.spdfraktion.de/
METHOD:PUBLISH
BEGIN:VEVENT
UID: b0cc9c6aae884ff94321bbd4f12af29d@spdfraktion.de
SUMMARY: Ausbildung stärken!
DESCRIPTION: Betriebe, Schulen, Azubis und Politik Hand in Hand für eine starke berufliche Ausbildung. Mehr unter https://www.spdfraktion.de/node/6219508
LOCATION: Bildungszentrum Singen, Zelglestr. 4, 78224 Singen
CLASS:PUBLIC
DTSTAMP:20241001T180000
DTSTART:20241001T180000
DTEND:20241001T193000
SEQUENCE:0
END:VEVENT
END:VCALENDAR
