BEGIN:VCALENDAR
VERSION:2.0
PRODID:https://www.spdfraktion.de/
METHOD:PUBLISH
BEGIN:VEVENT
UID: ff56c9df6357750afa6eb2422fac03c2@spdfraktion.de
SUMMARY: Die Arbeitswelt der Zukunft gestalten
DESCRIPTION: Diskussionsveranstaltung. Mehr unter https://www.spdfraktion.de/node/6219505
LOCATION: , ,  
CLASS:PUBLIC
DTSTAMP:20240930T183000
DTSTART:20240930T183000
DTEND:20240930T193000
SEQUENCE:0
END:VEVENT
END:VCALENDAR
