BEGIN:VCALENDAR
VERSION:2.0
PRODID:https://www.spdfraktion.de/
METHOD:PUBLISH
BEGIN:VEVENT
UID: d1f48708ba6275cb0ff266e7f1b4b459@spdfraktion.de
SUMMARY: Sozialdemokratische Stadtentwicklung
DESCRIPTION: Gemeinsam für die Stadt von Morgen. Mehr unter https://www.spdfraktion.de/node/6219485
LOCATION: Kulturforum des Schleswig-Holstein-Hauses, Puschkinstraße 12, 19055 Schwerin
CLASS:PUBLIC
DTSTAMP:20240916T190000
DTSTART:20240916T190000
DTEND:20240916T204500
SEQUENCE:0
END:VEVENT
END:VCALENDAR
