BEGIN:VCALENDAR
VERSION:2.0
PRODID:https://www.spdfraktion.de/
METHOD:PUBLISH
BEGIN:VEVENT
UID: bfdf9e39881adef9ffa7114b1e6baf57@spdfraktion.de
SUMMARY: Demokratie unter Druck – Was ist zu tun?
DESCRIPTION: Diskussionsveranstaltung. Mehr unter https://www.spdfraktion.de/node/6219481
LOCATION: Alte Schlosserei, Alte Schlosserei 1, 31275 Lehrte
CLASS:PUBLIC
DTSTAMP:20240917T183000
DTSTART:20240917T183000
DTEND:20240917T201500
SEQUENCE:0
END:VEVENT
END:VCALENDAR
